BEGIN:VCALENDAR
VERSION:2.0
PRODID:-//Vishwa Shanti Sewa Charitable Mission - ECPv6.15.20//NONSGML v1.0//EN
CALSCALE:GREGORIAN
METHOD:PUBLISH
X-ORIGINAL-URL:https://vsscm.org
X-WR-CALDESC:Events for Vishwa Shanti Sewa Charitable Mission
REFRESH-INTERVAL;VALUE=DURATION:PT1H
X-Robots-Tag:noindex
X-PUBLISHED-TTL:PT1H
BEGIN:VTIMEZONE
TZID:UTC
BEGIN:STANDARD
TZOFFSETFROM:+0000
TZOFFSETTO:+0000
TZNAME:UTC
DTSTART:20240101T000000
END:STANDARD
END:VTIMEZONE
BEGIN:VEVENT
DTSTART;TZID=UTC:20250822T110000
DTEND;TZID=UTC:20250828T130000
DTSTAMP:20260421T154229
CREATED:20250714T011753Z
LAST-MODIFIED:20250820T082146Z
UID:26045-1755860400-1756386000@vsscm.org
SUMMARY:Shri Ram Katha - SANATAN DHARM MANDIR\, USA
DESCRIPTION:Shri Ram Katha – SANATAN DHARM MANDIR\, USA\nDate : 22 August to 28 August 2025\nVenue – SANATAN DHARM MANDIR KENT WA 27123 104th Ave SE Kent WA 98030\, USA\nTiming – Saturday to Sunday: 11:00am to 1:00 pm\nMonday to Friday: 6.00 pm to 8.00 pm\nFor More Information: (425) 329-9314\, (253) 859-3200
URL:https://vsscm.org/event/shri-ram-katha-sanatan-dharm-mandir-usa/
CATEGORIES:Shri Ram Katha
ATTACH;FMTTYPE=image/jpeg:https://vsscm.org/wp-content/uploads/2025/07/BB8I1871-1536x1024-1.jpg
END:VEVENT
END:VCALENDAR